BEGIN:VCALENDAR
VERSION:2.0
PRODID:-//Baie-Saint-Paul Guide//NONSGML kigkonsult.se iCalcreator 2.30.10/
 /
CALSCALE:GREGORIAN
METHOD:PUBLISH
UID:85c9ce7c-7025-483e-9096-e1a5fbd0c436
X-WR-CALNAME:iCagenda
X-WR-CALDESC:Event Management Extension for Joomla!
X-WR-RELCALID:3E26604A-50F4-4449-8B3E-E4F4932D05B5
X-WR-TIMEZONE:America/Toronto
BEGIN:VTIMEZONE
TZID:America/Toronto
BEGIN:STANDARD
TZNAME:EST
DTSTART:20241103T020000
TZOFFSETFROM:-0400
TZOFFSETTO:-0500
RDATE:20251102T020000
RDATE:20261101T020000
END:STANDARD
BEGIN:DAYLIGHT
TZNAME:EDT
DTSTART:20250309T020000
TZOFFSETFROM:-0500
TZOFFSETTO:-0400
RDATE:20260308T020000
END:DAYLIGHT
END:VTIMEZONE
BEGIN:VEVENT
UID:83015562-410e-48ef-a378-653700f06e49
DTSTAMP:20260420T130321Z
CATEGORIES:Vernissage
CLASS:PUBLIC
DESCRIPTION;ALTREP="CID:<FFFF__=0ABBE548DFE235B58f9e8a93d@coffeebean.com>":
 INVITATION AU VERNISSAGE - 1 AOÛT 2025\n 
DTSTART:20250801T210000Z
DTEND:20250801T210000Z
GEO:+47.440632;-70.50795
LOCATION:Bibliothèque René-Richard
ORGANIZER:
SEQUENCE:1
SUMMARY:VERNISSAGE : William A. Lafleur
TRANSP:OPAQUE
URL:https://www.guidebaiesaintpaul.com.terreciel.ca/en/component/icagenda/v
 ernissage-william-a-lafleur.html?Itemid=102
END:VEVENT
END:VCALENDAR
