BEGIN:VCALENDAR
VERSION:2.0
PRODID:-//Baie-Saint-Paul Guide//NONSGML kigkonsult.se iCalcreator 2.30.10/
 /
CALSCALE:GREGORIAN
METHOD:PUBLISH
UID:9edd43a2-e6bb-4a99-b5c8-d74638ed4173
X-WR-CALNAME:iCagenda
X-WR-CALDESC:Event Management Extension for Joomla!
X-WR-RELCALID:3E26604A-50F4-4449-8B3E-E4F4932D05B5
X-WR-TIMEZONE:America/Toronto
BEGIN:VTIMEZONE
TZID:America/Toronto
BEGIN:STANDARD
TZNAME:EST
DTSTART:20251102T020000
TZOFFSETFROM:-0400
TZOFFSETTO:-0500
RDATE:20261101T020000
END:STANDARD
BEGIN:DAYLIGHT
TZNAME:EDT
DTSTART:20260308T020000
TZOFFSETFROM:-0500
TZOFFSETTO:-0400
RDATE:20270314T020000
END:DAYLIGHT
END:VTIMEZONE
BEGIN:VEVENT
UID:d910a5a3-504c-4044-a402-a7691920b26c
DTSTAMP:20260420T012539Z
CATEGORIES:Vernissage
CLASS:PUBLIC
DESCRIPTION;ALTREP="CID:<FFFF__=0ABBE548DFE235B58f9e8a93d@coffeebean.com>":
 MMENSITÉpar la Guilde des artistes de la région de Drummondville\nLa GAD e
 xiste depuis 1977. Pour cette exposition\, la nature est certes l’une des 
 voies par la présence qu’on y pose. L’immensité nous aide à relativiser l'
 importance des choses et de la vie. L’imagination du public sera stimulée 
 par le mystère et l’intrigue de certains tableaux qui laissent place à l’i
 nterprétation\, l’exploration et la réceptivité de significations cachées
DTSTART:20260313T210000Z
DTEND:20260313T220000Z
GEO:+47.440632;-70.50795
LOCATION:Bibliothèque René-Richard
ORGANIZER:
SEQUENCE:1
SUMMARY:Vernissage : Guilde de Drummondville
TRANSP:OPAQUE
URL:https://www.guidebaiesaintpaul.com.terreciel.ca/en/component/icagenda/v
 ernissage-guilde-de-drummondville.html?Itemid=102
END:VEVENT
END:VCALENDAR
