BEGIN:VCALENDAR
VERSION:2.0
PRODID:-//Baie-Saint-Paul Guide//NONSGML kigkonsult.se iCalcreator 2.30.10/
 /
CALSCALE:GREGORIAN
METHOD:PUBLISH
UID:be246ca5-df29-4c5e-a054-93abdecc9c15
X-WR-CALNAME:iCagenda
X-WR-CALDESC:Event Management Extension for Joomla!
X-WR-RELCALID:3E26604A-50F4-4449-8B3E-E4F4932D05B5
X-WR-TIMEZONE:America/Toronto
BEGIN:VTIMEZONE
TZID:America/Toronto
BEGIN:STANDARD
TZNAME:EST
DTSTART:20241103T020000
TZOFFSETFROM:-0400
TZOFFSETTO:-0500
RDATE:20251102T020000
RDATE:20261101T020000
END:STANDARD
BEGIN:DAYLIGHT
TZNAME:EDT
DTSTART:20250309T020000
TZOFFSETFROM:-0500
TZOFFSETTO:-0400
RDATE:20260308T020000
END:DAYLIGHT
END:VTIMEZONE
BEGIN:VEVENT
UID:fd2037fc-632a-47e8-8b4e-ed67b65b3164
DTSTAMP:20260420T130558Z
CATEGORIES:Bistro des Balcons
CLASS:PUBLIC
DESCRIPTION;ALTREP="CID:<FFFF__=0ABBE548DFE235B58f9e8a93d@coffeebean.com>":
 La programmation estivale des Balcons est fièrement présentée par Menaud 
 \n Vendredi 8 août • 20h30 Ultra Violette Pop 80s\nUltra Violette\, alias 
 Cassandre Picard\, a investi ses énergies à mettre en scène un spectacle é
 claté\, qui lui ressemble et qui rappellera sans doute à plusieurs les ann
 ées 80\, éclectiques et en plein changements. L'artiste propose un son pop
 \, électro et dont les paroles sont entièrement francophones. Avec ses cha
 nsons tantôt festives\, tantôt introspectives\, Ultra Violette se réapprop
 rie les thèmes de l'amour et des paradoxes humains en assumant pleinement 
 l'essence pop de son art.\n : https://www.youtube.com/watch?v=jMPPh7ZcXBI
 \n\n Cet été\, nous sommes ravis de vous offrir un accès hebdomadaire à la
  culture émergente d’ici avec une saison complète de spectacles à contribu
 tion volontaire seulement \n Comment ça marche?VOUS dictez le prix d’entré
 e de votre billet. Tout l’argent de la billetterie volontaire se rend dire
 ctement aux artistes. 
DTSTART:20250809T003000Z
DTEND:20250809T020000Z
GEO:+47.438202;-70.505577
LOCATION:Bistro des Balcons
ORGANIZER:
SEQUENCE:1
SUMMARY:Ultra Violette au Bistro des Balcons
TRANSP:OPAQUE
URL:https://www.guidebaiesaintpaul.com.terreciel.ca/en/component/icagenda/u
 ltra-violette-au-bistro-des-balcons.html?Itemid=102
END:VEVENT
END:VCALENDAR
