BEGIN:VCALENDAR
VERSION:2.0
PRODID:-//Baie-Saint-Paul Guide//NONSGML kigkonsult.se iCalcreator 2.30.10/
 /
CALSCALE:GREGORIAN
METHOD:PUBLISH
UID:16c894d4-0d0d-408c-aa82-783e8493f0e7
X-WR-CALNAME:iCagenda
X-WR-CALDESC:Event Management Extension for Joomla!
X-WR-RELCALID:3E26604A-50F4-4449-8B3E-E4F4932D05B5
X-WR-TIMEZONE:America/Toronto
BEGIN:VTIMEZONE
TZID:America/Toronto
BEGIN:STANDARD
TZNAME:EST
DTSTART:20251102T020000
TZOFFSETFROM:-0400
TZOFFSETTO:-0500
RDATE:20261101T020000
END:STANDARD
BEGIN:DAYLIGHT
TZNAME:EDT
DTSTART:20250309T020000
TZOFFSETFROM:-0500
TZOFFSETTO:-0400
RDATE:20260308T020000
RDATE:20270314T020000
END:DAYLIGHT
END:VTIMEZONE
BEGIN:VEVENT
UID:06622b0a-e254-449f-83f3-1a2eb6eadae1
DTSTAMP:20260422T083141Z
CATEGORIES:Bistro des Balcons
CLASS:PUBLIC
DESCRIPTION;ALTREP="CID:<FFFF__=0ABBE548DFE235B58f9e8a93d@coffeebean.com>":
 Le mardi 11 Novembre à 19h\, on projette sur grand écran le match des Cana
 diens de Montréal. Bières\, bouffe et grosse dose de hockey au rendez-vous
 !Go Habs go les amigos!...GO HABS GO!\n 
DTSTART:20251112T000000Z
DTEND:20251112T030000Z
GEO:+47.438202;-70.505577
LOCATION:Bistro des balcons
ORGANIZER:
SEQUENCE:1
SUMMARY:Soirée Hockey Canadiens au Bistro des Balcons!
TRANSP:OPAQUE
URL:https://www.guidebaiesaintpaul.com.terreciel.ca/en/component/icagenda/s
 oiree-hockey-canadiens-au-bistro-des-balcons.html?Itemid=102
END:VEVENT
END:VCALENDAR
