BEGIN:VCALENDAR
VERSION:2.0
PRODID:-//Baie-Saint-Paul Guide//NONSGML kigkonsult.se iCalcreator 2.30.10/
 /
CALSCALE:GREGORIAN
METHOD:PUBLISH
UID:1896c99c-7872-4005-8bc4-ab99c0d701a9
X-WR-CALNAME:iCagenda
X-WR-CALDESC:Event Management Extension for Joomla!
X-WR-RELCALID:3E26604A-50F4-4449-8B3E-E4F4932D05B5
X-WR-TIMEZONE:America/Toronto
BEGIN:VTIMEZONE
TZID:America/Toronto
BEGIN:STANDARD
TZNAME:EST
DTSTART:20241103T020000
TZOFFSETFROM:-0400
TZOFFSETTO:-0500
RDATE:20251102T020000
RDATE:20261101T020000
END:STANDARD
BEGIN:DAYLIGHT
TZNAME:EDT
DTSTART:20250309T020000
TZOFFSETFROM:-0500
TZOFFSETTO:-0400
RDATE:20260308T020000
END:DAYLIGHT
END:VTIMEZONE
BEGIN:VEVENT
UID:4461982e-2db2-4a88-b056-70be05e036c5
DTSTAMP:20260420T130356Z
CATEGORIES:Bistro des Balcons
CLASS:PUBLIC
DESCRIPTION;ALTREP="CID:<FFFF__=0ABBE548DFE235B58f9e8a93d@coffeebean.com>":
 La programmation estivale des Balcons est fièrement présentée par Menaud&n
 bsp\;\n&nbsp\;Vendredi 1er août • 20h30&nbsp\;Rabaska&nbsp\;Rock progressi
 f\nC'est un retour de Rabaska sur notre scène !&nbsp\;\nOriginaire de l'Es
 trie\, Rabaska est le résultat d’une chaleureuse collision entre le rock p
 rogressif\, le funk et le folk québécois. Leur musique vous portera à des 
 endroits trop peu explorés ailleurs. Une rivière de vagues musicales aux r
 ossignols chanteurs\, un mouvement qui vous entrainera tout en avant de l’
 embarcation au moment où celle-ci s’envole.\nRabaska offre un spectacle gr
 oovy\, accessible et planant dans une ambiance authentique et conviviale. 
 Les textes\, remplis d'amour\, de peine et d’espoir\, servent à merveille 
 les trames instrumentales du groupe.\nEntièrement auto-produit et ayant un
  album à leur actif\, Rabaska est le fruit d'une créativité authentique ra
 ssemblant une panoplie de styles divers\, notamment inspirés de groupes te
 ls que Harmonium\, Cano\, Supertramp et Pink Floyd.\n&nbsp\;:&nbsp\;https:
 //www.youtube.com/watch?v=SC9NTo-E49k\n\n&nbsp\;Cet été\, nous sommes ravi
 s de vous offrir un accès hebdomadaire à la culture émergente d’ici avec u
 ne saison complète de spectacles à contribution volontaire seulement&nbsp\
 ;\n&nbsp\;Comment ça marche?VOUS dictez le prix d’entrée de votre billet.&
 nbsp\;Tout l’argent de la billetterie volontaire se rend directement aux a
 rtistes.&nbsp\;
DTSTART:20250802T003000Z
DTEND:20250802T020000Z
GEO:+47.438202;-70.505577
LOCATION:Bistro des Balcons
ORGANIZER:
SEQUENCE:1
SUMMARY:Rabaska au Bistro des Balcons
TRANSP:OPAQUE
URL:https://www.guidebaiesaintpaul.com.terreciel.ca/en/component/icagenda/r
 abaska-au-bistro-des-balcons.html?Itemid=102
END:VEVENT
END:VCALENDAR
