BEGIN:VCALENDAR
VERSION:2.0
PRODID:-//Baie-Saint-Paul Guide//NONSGML kigkonsult.se iCalcreator 2.30.10/
 /
CALSCALE:GREGORIAN
METHOD:PUBLISH
UID:cc0923e6-8826-4950-b88c-a68dfd314386
X-WR-CALNAME:iCagenda
X-WR-CALDESC:Event Management Extension for Joomla!
X-WR-RELCALID:3E26604A-50F4-4449-8B3E-E4F4932D05B5
X-WR-TIMEZONE:America/Toronto
BEGIN:VTIMEZONE
TZID:America/Toronto
BEGIN:STANDARD
TZNAME:EST
DTSTART:20241103T020000
TZOFFSETFROM:-0400
TZOFFSETTO:-0500
RDATE:20251102T020000
RDATE:20261101T020000
END:STANDARD
BEGIN:DAYLIGHT
TZNAME:EDT
DTSTART:20250309T020000
TZOFFSETFROM:-0500
TZOFFSETTO:-0400
RDATE:20260308T020000
END:DAYLIGHT
END:VTIMEZONE
BEGIN:VEVENT
UID:ed9682bb-d153-4c96-99e6-5036ba1645a1
DTSTAMP:20260420T125400Z
CATEGORIES:Animation Baie-Saint-Paul
CLASS:PUBLIC
DESCRIPTION;ALTREP="CID:<FFFF__=0ABBE548DFE235B58f9e8a93d@coffeebean.com>":
 Spectacle de musique\, Rencontre entre l’art contemporain et la musique in
 die-folk-trad \nParuline puise dans la richesse de la littérature orale qu
 ébécoise\, explorant tant les chansons que les légendes traditionnelles. P
 orté par un profond attachement à la tradition musicale du Québec\, le pro
 jet allie compositions originales et relectures audacieuses de pièces trad
 itionnelles. À travers un mélange éclectique de styles – trad\, folk\, ind
 ie-rock et autres influences – Paruline façonne un univers sonore singulie
 r\, où héritage et modernité se rencontrent avec audace.
DTSTART:20250801T233000Z
DTEND:20250802T010000Z
GEO:+47.441021;-70.506462
LOCATION:Place de l'Église
ORGANIZER:
SEQUENCE:1
SUMMARY:Paruline
TRANSP:OPAQUE
URL:https://www.guidebaiesaintpaul.com.terreciel.ca/en/component/icagenda/p
 aruline.html?Itemid=102
END:VEVENT
END:VCALENDAR
