BEGIN:VCALENDAR
VERSION:2.0
PRODID:-//Baie-Saint-Paul Guide//NONSGML kigkonsult.se iCalcreator 2.30.10/
 /
CALSCALE:GREGORIAN
METHOD:PUBLISH
UID:46dde013-cf82-4cbd-8f5f-4b05c5445058
X-WR-CALNAME:iCagenda
X-WR-CALDESC:Event Management Extension for Joomla!
X-WR-RELCALID:3E26604A-50F4-4449-8B3E-E4F4932D05B5
X-WR-TIMEZONE:America/Toronto
BEGIN:VTIMEZONE
TZID:America/Toronto
BEGIN:STANDARD
TZNAME:EST
DTSTART:20251102T020000
TZOFFSETFROM:-0400
TZOFFSETTO:-0500
RDATE:20261101T020000
END:STANDARD
BEGIN:DAYLIGHT
TZNAME:EDT
DTSTART:20260308T020000
TZOFFSETFROM:-0500
TZOFFSETTO:-0400
RDATE:20270314T020000
END:DAYLIGHT
END:VTIMEZONE
BEGIN:VEVENT
UID:927e112d-3d53-4678-b6fd-cfa4c999d219
DTSTAMP:20260420T014222Z
CATEGORIES:Réunion
CLASS:PUBLIC
DESCRIPTION;ALTREP="CID:<FFFF__=0ABBE548DFE235B58f9e8a93d@coffeebean.com>":
 Au programme:- Chasse aux oeufs\;- Bricolage- Concours de dessins\n* Anima
 tions gratuites et prix de présence
DTSTART:20260321T133000Z
DTEND:20260321T150000Z
GEO:00;0
LOCATION:Centre Commercial Le village
ORGANIZER:
SEQUENCE:1
SUMMARY:Pâques en famille au Centre Commercial Le village
TRANSP:OPAQUE
URL:https://www.guidebaiesaintpaul.com.terreciel.ca/en/component/icagenda/p
 aques-en-famille-au-centre-commercial-le-village.html?Itemid=102
END:VEVENT
END:VCALENDAR
