BEGIN:VCALENDAR
VERSION:2.0
PRODID:-//Baie-Saint-Paul Guide//NONSGML kigkonsult.se iCalcreator 2.30.10/
 /
CALSCALE:GREGORIAN
METHOD:PUBLISH
UID:33ad0b35-de3c-47fb-8eb7-38496f3b0cb3
X-WR-CALNAME:iCagenda
X-WR-CALDESC:Event Management Extension for Joomla!
X-WR-RELCALID:3E26604A-50F4-4449-8B3E-E4F4932D05B5
X-WR-TIMEZONE:America/Toronto
BEGIN:VTIMEZONE
TZID:America/Toronto
BEGIN:STANDARD
TZNAME:EST
DTSTART:20241103T020000
TZOFFSETFROM:-0400
TZOFFSETTO:-0500
RDATE:20251102T020000
RDATE:20261101T020000
END:STANDARD
BEGIN:DAYLIGHT
TZNAME:EDT
DTSTART:20250309T020000
TZOFFSETFROM:-0500
TZOFFSETTO:-0400
RDATE:20260308T020000
END:DAYLIGHT
END:VTIMEZONE
BEGIN:VEVENT
UID:14ccc058-c6ca-4fe4-b13f-4f1350ab630e
DTSTAMP:20260420T130235Z
CATEGORIES:Animation Baie-Saint-Paul
CLASS:PUBLIC
DESCRIPTION;ALTREP="CID:<FFFF__=0ABBE548DFE235B58f9e8a93d@coffeebean.com>":
 Elle cumule les expériences en comédie musicale\, les formations en chant 
 et en musique\, le parcours de la création d’un festival pour artistes éme
 rgeants!\nÀ travers sa jeune trajectoire musicale déjà très riche\, elle a
  puisé sa propre lecture des choses de la vie\, les moins belles comme les
  plus jolies! Son côté mélomane nous offre une musique moderne\, articulée
 \, aux accents folk-rock qui coulent comme le fleuve sur ses mots limpides
  et assumés! Ponctuant son spectacle d’un éventail d’interprétations bien 
 senties\, Marie-L’eau nous partage sa voix fluide\, habitée\, profonde\, q
 ui porte des chansons originales lumineuses même dans les ombres des histo
 ires!
DTSTART:20250815T233000Z
DTEND:20250816T010000Z
GEO:+47.441021;-70.506462
LOCATION:Place de l'Église
ORGANIZER:
SEQUENCE:1
SUMMARY:Marie-L'Eau
TRANSP:OPAQUE
URL:https://www.guidebaiesaintpaul.com.terreciel.ca/en/component/icagenda/m
 arie-leau.html?Itemid=102
END:VEVENT
END:VCALENDAR
