BEGIN:VCALENDAR
VERSION:2.0
PRODID:-//Baie-Saint-Paul Guide//NONSGML kigkonsult.se iCalcreator 2.30.10/
 /
CALSCALE:GREGORIAN
METHOD:PUBLISH
UID:131efa07-0376-40f3-a0ef-8d736f00c798
X-WR-CALNAME:iCagenda
X-WR-CALDESC:Event Management Extension for Joomla!
X-WR-RELCALID:3E26604A-50F4-4449-8B3E-E4F4932D05B5
X-WR-TIMEZONE:America/Toronto
BEGIN:VTIMEZONE
TZID:America/Toronto
BEGIN:STANDARD
TZNAME:EST
DTSTART:20241103T020000
TZOFFSETFROM:-0400
TZOFFSETTO:-0500
RDATE:20251102T020000
RDATE:20261101T020000
END:STANDARD
BEGIN:DAYLIGHT
TZNAME:EDT
DTSTART:20250309T020000
TZOFFSETFROM:-0500
TZOFFSETTO:-0400
RDATE:20260308T020000
END:DAYLIGHT
END:VTIMEZONE
BEGIN:VEVENT
UID:548557a2-a74d-40cc-b253-3aea42756fb8
DTSTAMP:20260420T130454Z
CATEGORIES:Bistro des Balcons
CLASS:PUBLIC
DESCRIPTION;ALTREP="CID:<FFFF__=0ABBE548DFE235B58f9e8a93d@coffeebean.com>":
 Les classiques jeudis d'été sont fièrement présentés par À Chacun son Pain
  \nOn vous accueille chaque semaine pour des 5 à 7 avec toujours de nouvea
 ux DJ invités pour varier les plaisirs &amp\; les styles !\nCette semaine 
 aux platines : Slim Tony \n Tous les jeudis GRATUIT Bienvenue à toustes !
 \nSur la terrasse s'il fait beau - à l'intérieur s'il mouille 
DTSTART:20250828T210000Z
DTEND:20250828T230000Z
GEO:+47.438202;-70.505577
LOCATION:Bistro des Balcons
ORGANIZER:
SEQUENCE:1
SUMMARY:Les Jeudis 5 à 7 - Slim Tony
TRANSP:OPAQUE
URL:https://www.guidebaiesaintpaul.com.terreciel.ca/en/component/icagenda/l
 es-jeudis-5-a-7-slim-tony.html?Itemid=102
END:VEVENT
END:VCALENDAR
