BEGIN:VCALENDAR
VERSION:2.0
PRODID:-//Baie-Saint-Paul Guide//NONSGML kigkonsult.se iCalcreator 2.30.10/
 /
CALSCALE:GREGORIAN
METHOD:PUBLISH
UID:afed7ed4-372a-4f5d-b1e6-e0495f4f51f9
X-WR-CALNAME:iCagenda
X-WR-CALDESC:Event Management Extension for Joomla!
X-WR-RELCALID:3E26604A-50F4-4449-8B3E-E4F4932D05B5
X-WR-TIMEZONE:America/Toronto
BEGIN:VTIMEZONE
TZID:America/Toronto
BEGIN:STANDARD
TZNAME:EST
DTSTART:20241103T020000
TZOFFSETFROM:-0400
TZOFFSETTO:-0500
RDATE:20251102T020000
RDATE:20261101T020000
END:STANDARD
BEGIN:DAYLIGHT
TZNAME:EDT
DTSTART:20250309T020000
TZOFFSETFROM:-0500
TZOFFSETTO:-0400
RDATE:20260308T020000
RDATE:20270314T020000
END:DAYLIGHT
END:VTIMEZONE
BEGIN:VEVENT
UID:64d9beb2-bea1-4c0f-8060-611a43fed657
DTSTAMP:20260420T114421Z
CATEGORIES:Omerto
CLASS:PUBLIC
DESCRIPTION;ALTREP="CID:<FFFF__=0ABBE548DFE235B58f9e8a93d@coffeebean.com>":
 Rejoignez-nous pour une soirée chaleureuse autour d’une délicieuse raclett
 e\, préparée en collaboration avec Le P’tit Resto Suisse de Charlevoix\, A
 h La Vache ! Laissez-vous surprendre par notre cocktail découverte\, dont 
 le nom reste un mystère\, et accompagnez votre repas d’un verre de vin au 
 choix\, sec ou moelleux.\nUne soirée conviviale et gourmande à ne pas manq
 uer !\n&nbsp\;\nNe manquez pas cette expérience unique ! Réservez dès main
 tenant vos billets en ligne pour garantir votre place\, car elles sont lim
 itées. Rendez-vous au 328\, rang Saint-Antoine N\, Baie-Saint-Paul\, Québe
 c G3Z 2C3 pour une expérience culinaire inoubliable. Veuillez noter que le
  menu peut différer de l'image. Ne tardez pas\, achetez vos billets dès au
 jourd’hui !\n&nbsp\;\nPour voir tous nos évènements\, visitez le site :&nb
 sp\;lepointdevente.com/billets/omerto
DTSTART:20250918T200000Z
DTEND:20250919T000000Z
GEO:00;0
LOCATION:Omerto
ORGANIZER:
SEQUENCE:1
SUMMARY:Les Jeudis 4@8 chez Omerto - Soirée Raclette - Ah la Vache!
TRANSP:OPAQUE
URL:https://www.guidebaiesaintpaul.com.terreciel.ca/en/component/icagenda/l
 es-jeudis-4-8-chez-omerto-soiree-raclette-ah-la-vache.html?Itemid=102
END:VEVENT
END:VCALENDAR
