BEGIN:VCALENDAR
VERSION:2.0
PRODID:-//Baie-Saint-Paul Guide//NONSGML kigkonsult.se iCalcreator 2.30.10/
 /
CALSCALE:GREGORIAN
METHOD:PUBLISH
UID:9a4697eb-edf2-401b-a2c9-fbc085de8716
X-WR-CALNAME:iCagenda
X-WR-CALDESC:Event Management Extension for Joomla!
X-WR-RELCALID:3E26604A-50F4-4449-8B3E-E4F4932D05B5
X-WR-TIMEZONE:America/Toronto
BEGIN:VTIMEZONE
TZID:America/Toronto
BEGIN:STANDARD
TZNAME:EST
DTSTART:20241103T020000
TZOFFSETFROM:-0400
TZOFFSETTO:-0500
RDATE:20251102T020000
RDATE:20261101T020000
END:STANDARD
BEGIN:DAYLIGHT
TZNAME:EDT
DTSTART:20250309T020000
TZOFFSETFROM:-0500
TZOFFSETTO:-0400
RDATE:20260308T020000
END:DAYLIGHT
END:VTIMEZONE
BEGIN:VEVENT
UID:a8602107-7ad9-4a57-86f3-ec2904ff8fee
DTSTAMP:20260420T125635Z
CATEGORIES:Les Dimanches Musicaux
CLASS:PUBLIC
DESCRIPTION;ALTREP="CID:<FFFF__=0ABBE548DFE235B58f9e8a93d@coffeebean.com>":
 Piano &amp\; VoixOriginaire de Ville Saguenay et Charlevoisienne d’adoptio
 n\, France Ménard\, soprano\, étudie le chant classique depuis une quinzai
 ne d’années. Membre du Chœur polyphonique de Charlevoix\, on peut égalemen
 t l’entendre comme soliste lors de différents événements tels que célébrat
 ions liturgiques\, récitals\, prestations avec la Société de concert de Ch
 arlevoix et événements privés. Sa voix douce et puissante à la fois et la 
 sincérité de ses interprétations font d’elle une chanteuse lyrique touchan
 te et agréable à entendre.\nOriginaire de Baie-Saint-Paul\, Renée Gagnon e
 st diplômée en piano du Conservatoire de musique de Québec et se spécialis
 e par la suite comme organiste. Elle est d’ailleurs titulaire de l’orgue d
 e l’église de Baie-Saint-Paul depuis 2006. Pianiste et organiste recherché
 e\, récipiendaire de plusieurs prix et mérite\, elle enseigne aujourd’hui 
 le piano et accompagne des chanteurs et des ensembles de Charlevoix en con
 cert. Sa touche musicale raffinée\, son oreille absolue et son talent d’im
 provisation font d’elle une artiste d’exception.Billets : https://lepointd
 evente.com/billets/rww250817001
DTSTART:20250817T150000Z
DTEND:20250817T163000Z
GEO:+47.438431;-70.506203
LOCATION:Chapelle de Maison Mère
ORGANIZER:
SEQUENCE:1
SUMMARY:Les Dames de Cœur
TRANSP:OPAQUE
URL:https://www.guidebaiesaintpaul.com.terreciel.ca/en/component/icagenda/l
 es-dames-de-coeur.html?Itemid=102
END:VEVENT
END:VCALENDAR
