BEGIN:VCALENDAR
VERSION:2.0
PRODID:-//Baie-Saint-Paul Guide//NONSGML kigkonsult.se iCalcreator 2.30.10/
 /
CALSCALE:GREGORIAN
METHOD:PUBLISH
UID:33cc134b-1a56-46cc-afea-15cdce4814d9
X-WR-CALNAME:iCagenda
X-WR-CALDESC:Event Management Extension for Joomla!
X-WR-RELCALID:3E26604A-50F4-4449-8B3E-E4F4932D05B5
X-WR-TIMEZONE:America/Toronto
BEGIN:VTIMEZONE
TZID:America/Toronto
BEGIN:STANDARD
TZNAME:EST
DTSTART:20241103T020000
TZOFFSETFROM:-0400
TZOFFSETTO:-0500
RDATE:20251102T020000
RDATE:20261101T020000
END:STANDARD
BEGIN:DAYLIGHT
TZNAME:EDT
DTSTART:20250309T020000
TZOFFSETFROM:-0500
TZOFFSETTO:-0400
RDATE:20260308T020000
END:DAYLIGHT
END:VTIMEZONE
BEGIN:VEVENT
UID:3088d094-a015-4df2-aee5-a15fccd2d87c
DTSTAMP:20260420T125534Z
CATEGORIES:Animation Baie-Saint-Paul
CLASS:PUBLIC
DESCRIPTION;ALTREP="CID:<FFFF__=0ABBE548DFE235B58f9e8a93d@coffeebean.com>":
 L’auteur-compositeur-interprète et réalisateur Ken Presse présente sur scè
 ne les pièces de son premier album&nbsp\;This Ain’t The Night&nbsp\;et cel
 les de son nouvel opus sorti en janvier 2025:&nbsp\;Someday. Après avoir p
 arcouru plus de 18 pays en tournée en tant que musicien\, Ken dévoile son 
 projet solo dans un son tissé de diverses influences: folk\, country\, ind
 ie rock\, pop et même R&amp\;B. En toute intimité\, Ken nous transporte da
 ns un univers qui lui est propre avec ses compositions nostalgiques\, sent
 imentales et introspectives.
DTSTART:20250809T233000Z
DTEND:20250810T010000Z
GEO:+47.441021;-70.506462
LOCATION:Place de l'Église
ORGANIZER:
SEQUENCE:1
SUMMARY:Ken Presse
TRANSP:OPAQUE
URL:https://www.guidebaiesaintpaul.com.terreciel.ca/en/component/icagenda/k
 en-presse.html?Itemid=102
END:VEVENT
END:VCALENDAR
