BEGIN:VCALENDAR
VERSION:2.0
PRODID:-//Baie-Saint-Paul Guide//NONSGML kigkonsult.se iCalcreator 2.30.10/
 /
CALSCALE:GREGORIAN
METHOD:PUBLISH
UID:966741cf-d929-4b5e-a97c-2c112fc36653
X-WR-CALNAME:iCagenda
X-WR-CALDESC:Event Management Extension for Joomla!
X-WR-RELCALID:3E26604A-50F4-4449-8B3E-E4F4932D05B5
X-WR-TIMEZONE:America/Toronto
BEGIN:VTIMEZONE
TZID:America/Toronto
BEGIN:STANDARD
TZNAME:EST
DTSTART:20241103T020000
TZOFFSETFROM:-0400
TZOFFSETTO:-0500
RDATE:20251102T020000
RDATE:20261101T020000
END:STANDARD
BEGIN:DAYLIGHT
TZNAME:EDT
DTSTART:20250309T020000
TZOFFSETFROM:-0500
TZOFFSETTO:-0400
RDATE:20260308T020000
END:DAYLIGHT
END:VTIMEZONE
BEGIN:VEVENT
UID:bf201a64-4d91-438f-b7f7-be75e2feec0f
DTSTAMP:20260420T125502Z
CATEGORIES:Animation Baie-Saint-Paul
CLASS:PUBLIC
DESCRIPTION;ALTREP="CID:<FFFF__=0ABBE548DFE235B58f9e8a93d@coffeebean.com>":
 La soif de mettre leurs passions intensives et leurs inconforts douteux da
 ns autre chose qu’un verre à boire. L’appétence de consumer les mélodies p
 our les virer en brasier. C’est comme ça que ces flagorneurs de la langue 
 québécoise assument leur musique et leurs mots vrais. Frett Beretta\, c’es
 t des amis mélomanes (juste assez polissons) qui offrent un heureux mélang
 e de folk progressif\, de bluegrass et de rock afin de créer un “Grass n’ 
 Roll” sale et joyeux. Leurs textes poétiquement croustilleux et leurs ryth
 mes lunatiques obligeront l’étonnure sur les moues les plus lasses !
DTSTART:20250816T233000Z
DTEND:20250817T010000Z
GEO:+47.441021;-70.506462
LOCATION:Place de l'Église
ORGANIZER:
SEQUENCE:1
SUMMARY:Frett Beretta
TRANSP:OPAQUE
URL:https://www.guidebaiesaintpaul.com.terreciel.ca/en/component/icagenda/f
 rett-beretta.html?Itemid=102
END:VEVENT
END:VCALENDAR
