BEGIN:VCALENDAR
VERSION:2.0
PRODID:-//Baie-Saint-Paul Guide//NONSGML kigkonsult.se iCalcreator 2.30.10/
 /
CALSCALE:GREGORIAN
METHOD:PUBLISH
UID:9d16d160-6cce-49e3-bc2b-d2dae0d582bf
X-WR-CALNAME:iCagenda
X-WR-CALDESC:Event Management Extension for Joomla!
X-WR-RELCALID:3E26604A-50F4-4449-8B3E-E4F4932D05B5
X-WR-TIMEZONE:America/Toronto
BEGIN:VTIMEZONE
TZID:America/Toronto
BEGIN:STANDARD
TZNAME:EST
DTSTART:20251102T020000
TZOFFSETFROM:-0400
TZOFFSETTO:-0500
RDATE:20261101T020000
END:STANDARD
BEGIN:DAYLIGHT
TZNAME:EDT
DTSTART:20260308T020000
TZOFFSETFROM:-0500
TZOFFSETTO:-0400
RDATE:20270314T020000
END:DAYLIGHT
END:VTIMEZONE
BEGIN:VEVENT
UID:ccfa9b33-c0a2-4312-8dd5-0faf2acac49f
DTSTAMP:20260420T012453Z
CATEGORIES:Maison Mère
CLASS:PUBLIC
DESCRIPTION;ALTREP="CID:<FFFF__=0ABBE548DFE235B58f9e8a93d@coffeebean.com>":
 La Ville de Baie-Saint-Paul et Maison Mère vous invitent à une journée fes
 tive pour toute la famille. \nAu programme : des activités créatives\, des
  animations et bien plus encore pour petits et grands. \n𝐏𝐨𝐫𝐦𝐞𝐝́𝐭𝐢𝐥́ 𝐝 𝐥 𝐣
 𝐮𝐧́𝐞n10h – Histoire de Pâques\nLecture et animation d'un conte\n10h30 à 12
 h30 – Ateliers libres\n• Décoration de petits gâteaux• Zone photo avec le 
 lapin de Pâques• Parcours moteur : “Ne pas échapper l’œuf”• Mini-fermette•
  Plantation de semis• Coloriage géant• Jeux de société géants• Fabrication
  de coin-coin de Pâques• Rallye dans Maison Mère\n13h à 14h20 – Patinage l
 ibre à l'Aréna Luc-et-Marie-Claude 
DTSTART:20260321T140000Z
DTEND:20260321T182000Z
GEO:+47.438431;-70.506203
LOCATION:Maison Mère\, baie-saint-paul
ORGANIZER:
SEQUENCE:1
SUMMARY:Fête de Pâques
TRANSP:OPAQUE
URL:https://www.guidebaiesaintpaul.com.terreciel.ca/en/component/icagenda/f
 ete-de-paques.html?Itemid=102
END:VEVENT
END:VCALENDAR
