BEGIN:VCALENDAR
VERSION:2.0
PRODID:-//Baie-Saint-Paul Guide//NONSGML kigkonsult.se iCalcreator 2.30.10/
 /
CALSCALE:GREGORIAN
METHOD:PUBLISH
UID:6e002193-b092-4c59-be02-4c902b42a180
X-WR-CALNAME:iCagenda
X-WR-CALDESC:Event Management Extension for Joomla!
X-WR-RELCALID:3E26604A-50F4-4449-8B3E-E4F4932D05B5
X-WR-TIMEZONE:America/Toronto
BEGIN:VTIMEZONE
TZID:America/Toronto
BEGIN:STANDARD
TZNAME:EST
DTSTART:20241103T020000
TZOFFSETFROM:-0400
TZOFFSETTO:-0500
RDATE:20251102T020000
RDATE:20261101T020000
END:STANDARD
BEGIN:DAYLIGHT
TZNAME:EDT
DTSTART:20250309T020000
TZOFFSETFROM:-0500
TZOFFSETTO:-0400
RDATE:20260308T020000
END:DAYLIGHT
END:VTIMEZONE
BEGIN:VEVENT
UID:f90965ba-ad4b-4d46-8f28-56f8437a1428
DTSTAMP:20260420T130357Z
CATEGORIES:Bistro des Balcons
CLASS:PUBLIC
DESCRIPTION;ALTREP="CID:<FFFF__=0ABBE548DFE235B58f9e8a93d@coffeebean.com>":
 La programmation estivale des Balcons est fièrement présentée par Menaud 
 \n Samedi 16 août • 20h30 Félixe Indie rock\nFélixe c’est le projet de l’a
 utrice-compositrice-interprète sherbrookoise Véronique Bazin. En 2019\, el
 le sort son premier album rock alternatif « Prélude » et s’impose rapideme
 nt avec un rock agile et incisif rappelant l’approche douce de Salomé Lecl
 erc et le timbre distinctif de Marie-Pierre Arthur. Ayant eu une belle vis
 ibilité dans plusieurs médias influents\, cette parution lui permet d’ouvr
 ir pour Lou-Adriane Cassidy à Coup de Coeur francophone 2019 et pour Louis
 -Jean Cormier\, au festival Diapason 2021. Elle récidive avec l’EP rock « 
 Les jours peureux»\, en août 2021.\nSon prochain album\, intitulé « Hier n
 uit »\, est sorti le 28 mars 2025 et c’est Francis Ledoux (Helena Deland) 
 qui en signe la réalisation. Le désir de légèreté se fait entendre sur ses
  nouvelles chansons. C’est éthéré et volatile\, lumineux\, orageux\, plein
  d’espoir\, de souvenirs et de douceur. Ayant majoritairement exploité le 
 côté plus rock et grunge de sa personnalité musicale\, elle compose mainte
 nant principalement sur une guitare classique\, en explorant les différent
 s « tunings » alternatifs\, fortement inspirés par Joni Mitchell et Adrian
 ne Lenker.\n\n Cet été\, nous sommes ravis de vous offrir un accès hebdoma
 daire à la culture émergente d’ici avec une saison complète de spectacles 
 à contribution volontaire seulement \n Comment ça marche?VOUS dictez le pr
 ix d’entrée de votre billet. Tout l’argent de la billetterie volontaire se
  rend directement aux artistes. 
DTSTART:20250817T003000Z
DTEND:20250817T020000Z
GEO:+47.438202;-70.505577
LOCATION:Bistro des Balcons
ORGANIZER:
SEQUENCE:1
SUMMARY:Félixe au Bistro des Balcons
TRANSP:OPAQUE
URL:https://www.guidebaiesaintpaul.com.terreciel.ca/en/component/icagenda/f
 elixe-au-bistro-des-balcons.html?Itemid=102
END:VEVENT
END:VCALENDAR
