BEGIN:VCALENDAR
VERSION:2.0
PRODID:-//Baie-Saint-Paul Guide//NONSGML kigkonsult.se iCalcreator 2.30.10/
 /
CALSCALE:GREGORIAN
METHOD:PUBLISH
UID:cef648bc-c3f1-46c5-b1af-18a17fae4955
X-WR-CALNAME:iCagenda
X-WR-CALDESC:Event Management Extension for Joomla!
X-WR-RELCALID:3E26604A-50F4-4449-8B3E-E4F4932D05B5
X-WR-TIMEZONE:America/Toronto
BEGIN:VTIMEZONE
TZID:America/Toronto
BEGIN:STANDARD
TZNAME:EST
DTSTART:20241103T020000
TZOFFSETFROM:-0400
TZOFFSETTO:-0500
RDATE:20251102T020000
RDATE:20261101T020000
END:STANDARD
BEGIN:DAYLIGHT
TZNAME:EDT
DTSTART:20250309T020000
TZOFFSETFROM:-0500
TZOFFSETTO:-0400
RDATE:20260308T020000
END:DAYLIGHT
END:VTIMEZONE
BEGIN:VEVENT
UID:fd069c14-1839-4996-bd39-0661f64a3616
DTSTAMP:20260420T130235Z
CATEGORIES:Les Dimanches Musicaux
CLASS:PUBLIC
DESCRIPTION;ALTREP="CID:<FFFF__=0ABBE548DFE235B58f9e8a93d@coffeebean.com>":
 C’est à Baie-Saint-Paul que Fanny commence l’apprentissage du piano\, dès 
 l’âge de 5 ans.  Elle poursuit des études à l’Université Laval\, puis à l’
 Université d’Ottawa en interprétation de la musique classique.  Après avoi
 r mis de côté la musique pour le droit\, elle revient à ses premiers amour
 s en explorant la composition.  En 2024\, elle sort son premier album : Lu
 eur.  Dans ce spectacle\, elle présente ses dernières compositions\, ainsi
  que quelques reprises d’œuvres qui l’ont inspirée. On y découvrira un rép
 ertoire instrumental empreint de douceur\, invitant à la contemplation. Bi
 llets: https://lepointdevente.com/billets/rww250810001
DTSTART:20250810T134200Z
DTEND:20250810T163000Z
GEO:+47.438431;-70.506203
LOCATION:Chapelle de Maison Mère
ORGANIZER:
SEQUENCE:1
SUMMARY:Fanny Routhier
TRANSP:OPAQUE
URL:https://www.guidebaiesaintpaul.com.terreciel.ca/en/component/icagenda/f
 anny-routhier.html?Itemid=102
END:VEVENT
END:VCALENDAR
