BEGIN:VCALENDAR
VERSION:2.0
PRODID:-//Baie-Saint-Paul Guide//NONSGML kigkonsult.se iCalcreator 2.30.10/
 /
CALSCALE:GREGORIAN
METHOD:PUBLISH
UID:eb7440f0-140c-44cc-85f6-52c53809ea4e
X-WR-CALNAME:iCagenda
X-WR-CALDESC:Event Management Extension for Joomla!
X-WR-RELCALID:3E26604A-50F4-4449-8B3E-E4F4932D05B5
X-WR-TIMEZONE:America/Toronto
BEGIN:VTIMEZONE
TZID:America/Toronto
BEGIN:STANDARD
TZNAME:EST
DTSTART:20241103T020000
TZOFFSETFROM:-0400
TZOFFSETTO:-0500
RDATE:20251102T020000
RDATE:20261101T020000
END:STANDARD
BEGIN:DAYLIGHT
TZNAME:EDT
DTSTART:20250309T020000
TZOFFSETFROM:-0500
TZOFFSETTO:-0400
RDATE:20260308T020000
END:DAYLIGHT
END:VTIMEZONE
BEGIN:VEVENT
UID:5fcd91f3-ad8d-40d8-be63-3e2cdd3311f6
DTSTAMP:20260420T130540Z
CATEGORIES:Bistro des Balcons
CLASS:PUBLIC
DESCRIPTION;ALTREP="CID:<FFFF__=0ABBE548DFE235B58f9e8a93d@coffeebean.com>":
 La programmation estivale des Balcons est fièrement présentée par Menaud 
 \nSamedi 23 août • 20h30El BalcónFolk mexicain\n&amp\; PARTY D’ÉTÉ ANNUEL 
 DES BALCONS !  plus de détails à venir prochainement \nEl Balcón est un gr
 oupe montréalais formé de 6 artistes aux origines diverses. Se considérant
  comme une famille\, ielles innovent en s'inspirant de musiques traditionn
 elles qui les passionnent telles que le Son Jarocho du Mexique et divers s
 tyles du monde oriental et d'Europe du Sud-Est. Une jarana\, un requinto\,
  un violon\, une contrebasse\, un cajón\, et une tarima accompagnent le ch
 ant solo ou en harmonie de manière entièrement acoustique. Ce cocktail a c
 omme intention de faire danser tous les âges et d'unir les différences aut
 our d'un moment de joie.\n : https://www.youtube.com/watch?v=7-IkXen0xfU\n
 \n Cet été\, nous sommes ravis de vous offrir un accès hebdomadaire à la c
 ulture émergente d’ici avec une saison complète de spectacles à contributi
 on volontaire seulement \n Comment ça marche?VOUS dictez le prix d’entrée 
 de votre billet. Tout l’argent de la billetterie volontaire se rend direct
 ement aux artistes. 
DTSTART:20250824T003000Z
DTEND:20250824T020000Z
GEO:+47.438202;-70.505577
LOCATION:Bistro des Balcons
ORGANIZER:
SEQUENCE:1
SUMMARY:El Balcón + Party d’été annuel des Balcons
TRANSP:OPAQUE
URL:https://www.guidebaiesaintpaul.com.terreciel.ca/en/component/icagenda/e
 l-balcon-party-dete-annuel-des-balcons.html?Itemid=102
END:VEVENT
END:VCALENDAR
