BEGIN:VCALENDAR
VERSION:2.0
PRODID:-//Baie-Saint-Paul Guide//NONSGML kigkonsult.se iCalcreator 2.30.10/
 /
CALSCALE:GREGORIAN
METHOD:PUBLISH
UID:b9ccef29-8054-4f43-be9a-4aa920a5439c
X-WR-CALNAME:iCagenda
X-WR-CALDESC:Event Management Extension for Joomla!
X-WR-RELCALID:3E26604A-50F4-4449-8B3E-E4F4932D05B5
X-WR-TIMEZONE:America/Toronto
BEGIN:VTIMEZONE
TZID:America/Toronto
BEGIN:STANDARD
TZNAME:EST
DTSTART:20241103T020000
TZOFFSETFROM:-0400
TZOFFSETTO:-0500
RDATE:20251102T020000
RDATE:20261101T020000
END:STANDARD
BEGIN:DAYLIGHT
TZNAME:EDT
DTSTART:20250309T020000
TZOFFSETFROM:-0500
TZOFFSETTO:-0400
RDATE:20260308T020000
END:DAYLIGHT
END:VTIMEZONE
BEGIN:VEVENT
UID:615a38fa-9e4a-43af-b62f-4452ea4320c1
DTSTAMP:20260420T130438Z
CATEGORIES:Animation Baie-Saint-Paul
CLASS:PUBLIC
DESCRIPTION;ALTREP="CID:<FFFF__=0ABBE548DFE235B58f9e8a93d@coffeebean.com>":
 Sous le signe de la gaieté et de la bonne humeur\, ces prestations lyrique
 s sont une halte musicale incontournable. La direction musicale est assuré
 e par Sylvain Landry et l’accompagnement au piano par Renée Gagnon.\nIl ét
 ait une fois Paris… Le Paris du Second Empire était un passage obligé pour
  tout compositeur d’opéra ou d’opérettes. Seuls les meilleurs d’entre eux 
 pourront survivre à la pression de la Ville lumière et aux attentes du pub
 lic parisien. Vous n’êtes jamais allés à Paris? Soyez prêts pour l’embarqu
 ement… Venez entendre quelques-unes des plus belles pages musicales qui vo
 us entraîneront dans un voyage digne de la passion française et de la foli
 e parisienne! &nbsp\;
DTSTART:20250803T180000Z
DTEND:20250803T180000Z
GEO:+47.439861;-70.506615
LOCATION:Carrefour culturel Paul-Médéric
ORGANIZER:
SEQUENCE:1
SUMMARY:Dimanches Lyriques
TRANSP:OPAQUE
URL:https://www.guidebaiesaintpaul.com.terreciel.ca/en/component/icagenda/d
 imanches-lyriques/2025-08-03-14-00.html?Itemid=102
END:VEVENT
END:VCALENDAR
