BEGIN:VCALENDAR
VERSION:2.0
PRODID:-//Baie-Saint-Paul Guide//NONSGML kigkonsult.se iCalcreator 2.30.10/
 /
CALSCALE:GREGORIAN
METHOD:PUBLISH
UID:5f0ff055-7340-41c8-9983-14ab3bd33051
X-WR-CALNAME:iCagenda
X-WR-CALDESC:Event Management Extension for Joomla!
X-WR-RELCALID:3E26604A-50F4-4449-8B3E-E4F4932D05B5
X-WR-TIMEZONE:America/Toronto
BEGIN:VTIMEZONE
TZID:America/Toronto
BEGIN:STANDARD
TZNAME:EST
DTSTART:20241103T020000
TZOFFSETFROM:-0400
TZOFFSETTO:-0500
RDATE:20251102T020000
RDATE:20261101T020000
END:STANDARD
BEGIN:DAYLIGHT
TZNAME:EDT
DTSTART:20250309T020000
TZOFFSETFROM:-0500
TZOFFSETTO:-0400
RDATE:20260308T020000
RDATE:20270314T020000
END:DAYLIGHT
END:VTIMEZONE
BEGIN:VEVENT
UID:1233f4d5-067a-4994-8c9d-a3ca12123187
DTSTAMP:20260420T101957Z
CATEGORIES:Projection de film
CLASS:PUBLIC
DESCRIPTION;ALTREP="CID:<FFFF__=0ABBE548DFE235B58f9e8a93d@coffeebean.com>":
 Le 25 octobre 2025\, viens frissonner avec nous pour une soirée de project
 ions de courts-métrages d’horreur spécialement organisée pour l’Halloween.
 \nLes projections débuteront à 20h.Entrée gratuite -  parce que la peur\, 
 ça se partage !\nOse franchir la porte de la Cabane à sang… si tu n’as pas
  trop peur
DTSTART:20251026T000000Z
DTEND:20251026T020000Z
GEO:+47.438202;-70.505577
LOCATION:Bistro des Balcons
ORGANIZER:
SEQUENCE:1
SUMMARY:Cabane à sang – Soirée d’horreur au Bistro des Balcons
TRANSP:OPAQUE
URL:https://www.guidebaiesaintpaul.com.terreciel.ca/en/component/icagenda/c
 abane-a-sang-soiree-dhorreur-au-bistro-des-balcons.html?Itemid=102
END:VEVENT
END:VCALENDAR
