BEGIN:VCALENDAR
VERSION:2.0
PRODID:-//Baie-Saint-Paul Guide//NONSGML kigkonsult.se iCalcreator 2.30.10/
 /
CALSCALE:GREGORIAN
METHOD:PUBLISH
UID:caba075a-7f0f-4771-9c7e-8ec3164546e5
X-WR-CALNAME:iCagenda
X-WR-CALDESC:Event Management Extension for Joomla!
X-WR-RELCALID:3E26604A-50F4-4449-8B3E-E4F4932D05B5
X-WR-TIMEZONE:America/Toronto
BEGIN:VTIMEZONE
TZID:America/Toronto
BEGIN:STANDARD
TZNAME:EST
DTSTART:20251102T020000
TZOFFSETFROM:-0400
TZOFFSETTO:-0500
RDATE:20261101T020000
END:STANDARD
BEGIN:DAYLIGHT
TZNAME:EDT
DTSTART:20260308T020000
TZOFFSETFROM:-0500
TZOFFSETTO:-0400
RDATE:20270314T020000
END:DAYLIGHT
END:VTIMEZONE
BEGIN:VEVENT
UID:68d0f847-37f3-4e43-8c65-73ad05060080
DTSTAMP:20260420T012621Z
CATEGORIES:Mousse Café
CLASS:PUBLIC
DESCRIPTION;ALTREP="CID:<FFFF__=0ABBE548DFE235B58f9e8a93d@coffeebean.com>":
  Le Bazar de jeux est de retour !!!\nLe Bazar de jeux et casse-têtes usagé
 s du Mousse Café\, c'est une grande vente de jeux usagés et de casse-têtes
  usagés qui aura lieu le dimanche 22 mars de 8h à 15h (jusqu'à épuisement 
 des stocks).\nVous avez des jeux qui dorment dans vos armoires?Ou encore d
 es jeux auxquels vous avez tellement joué que vous n'en pouvez plus?On se 
 charge de les vendre pour vous au prix que vous aurez déterminé.\nEn retou
 r\, on vous offre l'équivalent de la pleine valeur vendue en carte cadeau 
 du Mousse Café.Pour vendre vos jeux\, il vous suffit de remplir le petit c
 ontrat\, de poser un coupon rempli sur chaque boîte de jeu et de venir nou
 s porter le tout d'ici le 21 mars.\nVous pouvez passer chercher les coupon
 s à remplir au Mousse Café ou les imprimer à la maison : https://bit.ly/41
 wtydf\n \nFONCTIONNEMENT-La vente de jeux usagés se fera seulement au café
  (argent comptant\, débit\, crédit). Les acheteurs paieront les jeux à la 
 caisse du Mousse Café\, au prix fixé par le vendeur. Les taxes seront char
 gées en sus au moment de la vente à la caisse.\n-Tous les jeux et fiches d
 ûment remplies devront être remis au plus tard le 21 mars 16h. Limite de 2
 0 jeux par famille.\n-Afin de nous permettre de faire le décompte des vent
 es\, il vous sera possible de récupérer et d'utiliser vos cartes cadeaux à
  compter du 10 avril seulement.\n-Tous les jeux invendus devront être récu
 pérés au plus tard le 10 avril 16h.\n-Les profits de vos jeux vendus seron
 t transférés sur une carte cadeau qui vous sera remise une semaine après l
 ’événement. La carte cadeau pourra être utilisée au Mousse Café uniquement
 \, autant pour des boissons\, de la nourriture\, ou des articles de boutiq
 ue (la carte cadeau fonctionnera sur place et non en ligne\, pour des rais
 ons logistiques).\n-Le client s’engage à vérifier ses jeux mis en vente et
  à déclarer toute condition indésirable ou pièces manquantes.\n-Le Mousse 
 Café n'est pas responsable de la condition des jeux en consigne lors du ba
 zar\, ce sont des ventes finales.\n-Rangez vos jeux pour qu’il n’y ait pas
  de pièces libres à l’intérieur de votre boîte. Placez un élastique autour
  de la boîte à l’extérieur afin d’éviter que votre boîte s’ouvre.
DTSTART:20260322T120000Z
DTEND:20260322T190000Z
GEO:+47.438477;-70.506615
LOCATION:Mousse Café - coopérative de solidarité
ORGANIZER:
SEQUENCE:1
SUMMARY:Bazar de jeux de société
TRANSP:OPAQUE
URL:https://www.guidebaiesaintpaul.com.terreciel.ca/en/component/icagenda/b
 azar-de-jeux-de-societe.html?Itemid=102
END:VEVENT
END:VCALENDAR
