BEGIN:VCALENDAR
VERSION:2.0
PRODID:-//Baie-Saint-Paul Guide//NONSGML kigkonsult.se iCalcreator 2.30.10/
 /
CALSCALE:GREGORIAN
METHOD:PUBLISH
UID:a4434449-0883-4ea8-aae4-1e5666d817ad
X-WR-CALNAME:iCagenda
X-WR-CALDESC:Event Management Extension for Joomla!
X-WR-RELCALID:3E26604A-50F4-4449-8B3E-E4F4932D05B5
X-WR-TIMEZONE:America/Toronto
BEGIN:VTIMEZONE
TZID:America/Toronto
BEGIN:STANDARD
TZNAME:EST
DTSTART:20251102T020000
TZOFFSETFROM:-0400
TZOFFSETTO:-0500
RDATE:20261101T020000
END:STANDARD
BEGIN:DAYLIGHT
TZNAME:EDT
DTSTART:20250309T020000
TZOFFSETFROM:-0500
TZOFFSETTO:-0400
RDATE:20260308T020000
RDATE:20270314T020000
END:DAYLIGHT
END:VTIMEZONE
BEGIN:VEVENT
UID:d38b4450-0ad6-408d-8085-0c3c0734f7e9
DTSTAMP:20260420T032012Z
CATEGORIES:Bistro des Balcons
CLASS:PUBLIC
DESCRIPTION;ALTREP="CID:<FFFF__=0ABBE548DFE235B58f9e8a93d@coffeebean.com>":
 Le Bistro des Balcons et le Festif! de Baie-Saint-Paul sont heureux de vou
 s convier au deuxième after-party de la saison du Cabaret Festif! Et oui… 
 c’est encore GRATUIT!\nLe 7 février\, dès la fin des spectacles à la Maiso
 n Otis\, rejoignez-nous à seulement 5 minutes à pied pour prolonger la soi
 rée et célébrer comme il se doit.\nRIRI aux platines : Un set exclusif et 
 dansant pour vous faire bouger jusqu’aux petites heures. Ambiance festive\
 , bonne musique et good vibes garanties.\nTacos de Don Julio en vente tout
 e la soirée:12 $ pour 2 tacosOption végé disponible\nLes spectacles se ter
 minent… mais la fête continue!
DTSTART:20260208T033000Z
DTEND:20260208T045900Z
GEO:+47.438202;-70.505577
LOCATION:Bistro des Balcons
ORGANIZER:
SEQUENCE:1
SUMMARY:After-party du cabaret Festif!
TRANSP:OPAQUE
URL:https://www.guidebaiesaintpaul.com.terreciel.ca/en/component/icagenda/a
 fter-party-du-cabaret-festif.html?Itemid=102
END:VEVENT
END:VCALENDAR
