BEGIN:VCALENDAR
VERSION:2.0
PRODID:-//Baie-Saint-Paul Guide//NONSGML kigkonsult.se iCalcreator 2.30.10/
 /
CALSCALE:GREGORIAN
METHOD:PUBLISH
UID:225b342d-c866-446f-a70b-993a1c5d2cfa
X-WR-CALNAME:iCagenda
X-WR-CALDESC:Event Management Extension for Joomla!
X-WR-RELCALID:3E26604A-50F4-4449-8B3E-E4F4932D05B5
X-WR-TIMEZONE:America/Toronto
BEGIN:VTIMEZONE
TZID:America/Toronto
BEGIN:STANDARD
TZNAME:EST
DTSTART:20251102T020000
TZOFFSETFROM:-0400
TZOFFSETTO:-0500
RDATE:20261101T020000
END:STANDARD
BEGIN:DAYLIGHT
TZNAME:EDT
DTSTART:20260308T020000
TZOFFSETFROM:-0500
TZOFFSETTO:-0400
RDATE:20270314T020000
END:DAYLIGHT
END:VTIMEZONE
BEGIN:VEVENT
UID:132dc9ad-c815-4044-b66b-098c1df67147
DTSTAMP:20260420T013918Z
CATEGORIES:Musée d'art contemporain de Baie-Saint-Paul
CLASS:PUBLIC
DESCRIPTION;ALTREP="CID:<FFFF__=0ABBE548DFE235B58f9e8a93d@coffeebean.com>":
 Le MACBSP vous invite à son prochain 5 à 7 créatif\, inspiré par l’univers
  de Jordi Bonet! L’atelier prendra forme autour de la technique de l’embos
 sage sur métal\, une approche sensible à la matière et au relief.\nTout le
  matériel professionnel sera fourni sur place et vous pourrez repartir à l
 a maison avec votre œuvre!\n BAR\n GRATUIT / CONTRIBUTIONS VOLONTAIRESInvi
 tez vos ami·e·s : l’événement est accessible à toustes.\n SALLES D'EXPOSIT
 IONSEn raison de la popularité des 5 à 7 créatifs\, un court temps d’atten
 te pourrait survenir avant le début de l’activité de création. Cela dit\, 
 nous vous rappelons que les salles d’exposition demeurent accessibles pend
 ant l’événement. Venez découvrir l’art autrement et partager un moment ins
 pirant.
DTSTART:20260325T210000Z
DTEND:20260325T230000Z
GEO:+47.440292;-70.505592
LOCATION:Musée d'art contemporain de Baie-Saint-Paul
ORGANIZER:
SEQUENCE:1
SUMMARY:5 à 7 créatif - À la manière de Jordi Bonet
TRANSP:OPAQUE
URL:https://www.guidebaiesaintpaul.com.terreciel.ca/en/component/icagenda/5
 -a-7-creatif-a-la-maniere-de-jordi-bonet.html?Itemid=102
END:VEVENT
END:VCALENDAR
