BEGIN:VCALENDAR
VERSION:2.0
PRODID:-//Baie-Saint-Paul Guide//NONSGML kigkonsult.se iCalcreator 2.30.10/
 /
CALSCALE:GREGORIAN
METHOD:PUBLISH
UID:af96e149-d927-4c02-8a22-4be22a345086
X-WR-CALNAME:iCagenda
X-WR-CALDESC:Event Management Extension for Joomla!
X-WR-RELCALID:3E26604A-50F4-4449-8B3E-E4F4932D05B5
X-WR-TIMEZONE:America/Toronto
BEGIN:VTIMEZONE
TZID:America/Toronto
BEGIN:STANDARD
TZNAME:EST
DTSTART:20251102T020000
TZOFFSETFROM:-0400
TZOFFSETTO:-0500
RDATE:20261101T020000
END:STANDARD
BEGIN:DAYLIGHT
TZNAME:EDT
DTSTART:20260308T020000
TZOFFSETFROM:-0500
TZOFFSETTO:-0400
RDATE:20270314T020000
END:DAYLIGHT
END:VTIMEZONE
BEGIN:VEVENT
UID:b12f53fe-c11f-41fc-80ab-b2168c209a7b
DTSTAMP:20260420T032018Z
CATEGORIES:Mousse Café
CLASS:PUBLIC
DESCRIPTION;ALTREP="CID:<FFFF__=0ABBE548DFE235B58f9e8a93d@coffeebean.com>":
  Le 2e Tournoi des Aventuriers du Rail débarque au Mousse Café !\nLe 21 ma
 rs\, de 9h30 à 14h30\, venez vivre une journée de stratégie\, de suspense 
 et de bonne humeur autour de ce grand classique des jeux de société.\n Deu
 x parties de qualification Une finale pour les meilleurs scores Des prix à
  gagner\nPour le plaisir de jouer ou pour relever le défi\, c’est l’occasi
 on idéale de partager un moment ludique en bonne compagnie !\n Inscription
 s : bit.ly/4cLJWhi 25 places seulement !\nOn vous attend autour des rails 
 ! 
DTSTART:20260321T133000Z
DTEND:20260321T183000Z
GEO:+47.438477;-70.506615
LOCATION:Mousse Café - coopérative de solidarité
ORGANIZER:
SEQUENCE:1
SUMMARY:Tournoi des Aventuriers du Rail !
TRANSP:OPAQUE
URL:https://www.guidebaiesaintpaul.com.terreciel.ca/component/icagenda/tour
 noi-des-aventuriers-du-rail.html?Itemid=103
END:VEVENT
END:VCALENDAR
