BEGIN:VCALENDAR
VERSION:2.0
PRODID:-//Baie-Saint-Paul Guide//NONSGML kigkonsult.se iCalcreator 2.30.10/
 /
CALSCALE:GREGORIAN
METHOD:PUBLISH
UID:d161325d-2cc2-4ed5-b551-149a33f2fd9a
X-WR-CALNAME:iCagenda
X-WR-CALDESC:Event Management Extension for Joomla!
X-WR-RELCALID:3E26604A-50F4-4449-8B3E-E4F4932D05B5
X-WR-TIMEZONE:America/Toronto
BEGIN:VTIMEZONE
TZID:America/Toronto
BEGIN:STANDARD
TZNAME:EST
DTSTART:20251102T020000
TZOFFSETFROM:-0400
TZOFFSETTO:-0500
RDATE:20261101T020000
END:STANDARD
BEGIN:DAYLIGHT
TZNAME:EDT
DTSTART:20260308T020000
TZOFFSETFROM:-0500
TZOFFSETTO:-0400
RDATE:20270314T020000
END:DAYLIGHT
END:VTIMEZONE
BEGIN:VEVENT
UID:dddb9fb9-ce35-4853-a2cd-631fb2e997d6
DTSTAMP:20260420T031849Z
CATEGORIES:Bistro des Balcons
CLASS:PUBLIC
DESCRIPTION;ALTREP="CID:<FFFF__=0ABBE548DFE235B58f9e8a93d@coffeebean.com>":
 Ce jeudi 19 Mars\, le 5@7 DJ habituel est remis à 19h et c'est CYR qui nou
 s permettra de danser jusqu'à 22h officiellement.\nOfficieusement\, ça pou
 rrait finir plus tard\, hehe!\nLe bistro est en privatisation avant 19h do
 nc on se voit ensuite!
DTSTART:20260319T230000Z
DTEND:20260320T020000Z
GEO:+47.438202;-70.505577
LOCATION:Bistro des Balcons
ORGANIZER:
SEQUENCE:1
SUMMARY:Sunset club avec CYR
TRANSP:OPAQUE
URL:https://www.guidebaiesaintpaul.com.terreciel.ca/component/icagenda/suns
 et-club-avec-cyr.html?Itemid=103
END:VEVENT
END:VCALENDAR
