BEGIN:VCALENDAR
VERSION:2.0
PRODID:-//Baie-Saint-Paul Guide//NONSGML kigkonsult.se iCalcreator 2.30.10/
 /
CALSCALE:GREGORIAN
METHOD:PUBLISH
UID:95b04378-b8a1-478c-9346-4fd720e320bb
X-WR-CALNAME:iCagenda
X-WR-CALDESC:Event Management Extension for Joomla!
X-WR-RELCALID:3E26604A-50F4-4449-8B3E-E4F4932D05B5
X-WR-TIMEZONE:America/Toronto
BEGIN:VTIMEZONE
TZID:America/Toronto
BEGIN:STANDARD
TZNAME:EST
DTSTART:20251102T020000
TZOFFSETFROM:-0400
TZOFFSETTO:-0500
RDATE:20261101T020000
END:STANDARD
BEGIN:DAYLIGHT
TZNAME:EDT
DTSTART:20250309T020000
TZOFFSETFROM:-0500
TZOFFSETTO:-0400
RDATE:20260308T020000
RDATE:20270314T020000
END:DAYLIGHT
END:VTIMEZONE
BEGIN:VEVENT
UID:30bef024-7671-45f2-9574-c7faa1860434
DTSTAMP:20260420T101717Z
CATEGORIES:Concert
CLASS:PUBLIC
DESCRIPTION;ALTREP="CID:<FFFF__=0ABBE548DFE235B58f9e8a93d@coffeebean.com>":
 Le vendredi 15 novembre\, nous aurons le plaisir d’accueillir Carl Mayotte
  À 20h\n&nbsp\;\nCarl Mayotte est un bassiste et compositeur prolifique\, 
 reconnu comme l’un des grands talents de la nouvelle génération de jazz au
  Québec. Lauréat de plusieurs prix prestigieux\, il marie habilement le ja
 zz\, le funk et les musiques du monde dans un univers vibrant et énergique
 . Chacun de ses concerts est une véritable célébration musicale\, remplie 
 de virtuosité et de groove.\n&nbsp\;\nLes billets sont en prévente à 18$ +
  taxes.\nhttps://lepointdevente.com/billets/adb251115001
DTSTART:20251116T010000Z
DTEND:20251116T030000Z
GEO:+47.438202;-70.505577
LOCATION:Bistro des Balcons
ORGANIZER:
SEQUENCE:1
SUMMARY:Soirée jazz-fusion au Bistro des Balcons
TRANSP:OPAQUE
URL:https://www.guidebaiesaintpaul.com.terreciel.ca/component/icagenda/soir
 ee-jazz-fusion-au-bistro-des-balcons.html?Itemid=103
END:VEVENT
END:VCALENDAR
