BEGIN:VCALENDAR
VERSION:2.0
PRODID:-//Baie-Saint-Paul Guide//NONSGML kigkonsult.se iCalcreator 2.30.10/
 /
CALSCALE:GREGORIAN
METHOD:PUBLISH
UID:66ce5ece-7f60-4df9-94e9-e3ba27947e17
X-WR-CALNAME:iCagenda
X-WR-CALDESC:Event Management Extension for Joomla!
X-WR-RELCALID:3E26604A-50F4-4449-8B3E-E4F4932D05B5
X-WR-TIMEZONE:America/Toronto
BEGIN:VTIMEZONE
TZID:America/Toronto
BEGIN:STANDARD
TZNAME:EST
DTSTART:20251102T020000
TZOFFSETFROM:-0400
TZOFFSETTO:-0500
RDATE:20261101T020000
END:STANDARD
BEGIN:DAYLIGHT
TZNAME:EDT
DTSTART:20260308T020000
TZOFFSETFROM:-0500
TZOFFSETTO:-0400
RDATE:20270314T020000
END:DAYLIGHT
END:VTIMEZONE
BEGIN:VEVENT
UID:86bce959-e5b7-4d3a-821e-1f3c377c9616
DTSTAMP:20260420T031726Z
CATEGORIES:Salon de quilles Charlevoix
CLASS:PUBLIC
DESCRIPTION;ALTREP="CID:<FFFF__=0ABBE548DFE235B58f9e8a93d@coffeebean.com>":
 Soirée Country - 19h Cours de danse / 20h Soirée dansanteEntrée : 10$
DTSTART:20260313T230000Z
DTEND:20260314T020000Z
GEO:00;0
LOCATION:Salon de quilles Charlevoix
ORGANIZER:
SEQUENCE:1
SUMMARY:Soirée Country
TRANSP:OPAQUE
URL:https://www.guidebaiesaintpaul.com.terreciel.ca/component/icagenda/soir
 ee-country.html?Itemid=103
END:VEVENT
END:VCALENDAR
