BEGIN:VCALENDAR
VERSION:2.0
PRODID:-//Baie-Saint-Paul Guide//NONSGML kigkonsult.se iCalcreator 2.30.10/
 /
CALSCALE:GREGORIAN
METHOD:PUBLISH
UID:9ad30a6e-c1c4-4fa6-b750-6bf1a02991bc
X-WR-CALNAME:iCagenda
X-WR-CALDESC:Event Management Extension for Joomla!
X-WR-RELCALID:3E26604A-50F4-4449-8B3E-E4F4932D05B5
X-WR-TIMEZONE:America/Toronto
BEGIN:VTIMEZONE
TZID:America/Toronto
BEGIN:STANDARD
TZNAME:EST
DTSTART:20251102T020000
TZOFFSETFROM:-0400
TZOFFSETTO:-0500
RDATE:20261101T020000
END:STANDARD
BEGIN:DAYLIGHT
TZNAME:EDT
DTSTART:20250309T020000
TZOFFSETFROM:-0500
TZOFFSETTO:-0400
RDATE:20260308T020000
RDATE:20270314T020000
END:DAYLIGHT
END:VTIMEZONE
BEGIN:VEVENT
UID:3c67507f-42c5-46e6-acd0-fd8f1c812abe
DTSTAMP:20260420T032006Z
CATEGORIES:Maison Mère
CLASS:PUBLIC
DESCRIPTION;ALTREP="CID:<FFFF__=0ABBE548DFE235B58f9e8a93d@coffeebean.com>":
 Présentation de film - Dans tes rêves (2025)\nPour la relâche\, préparez-v
 ous pour une soirée cinéma à Maison Mère ! Cet événement est spécialement 
 conçu pour les enfants. Le jeudi 5 mars à 18 h 30 dans la Salle des archiv
 es.\nSynopsis du film:Elliot sont propulsés dans le royaume des rêves aprè
 s avoir découvert un livre magique. Ils y vivent une aventure fantastique 
 pleine d humour\, d'émotions et de créatures surprenantes\, à la recherche
  du Marchand de sable.\nDu pop-corn et du jus seront offerts! \n- Entrée g
 ratuite! 
DTSTART:20260305T233000Z
DTEND:20260306T010000Z
GEO:+47.438431;-70.506203
LOCATION:Maison Mère\, baie-saint-paul
ORGANIZER:
SEQUENCE:1
SUMMARY:Présentation de film - Dans tes rêves (2025)
TRANSP:OPAQUE
URL:https://www.guidebaiesaintpaul.com.terreciel.ca/component/icagenda/pres
 entation-de-film-dans-tes-reves-2025.html?Itemid=103
END:VEVENT
END:VCALENDAR
