BEGIN:VCALENDAR
VERSION:2.0
PRODID:-//Baie-Saint-Paul Guide//NONSGML kigkonsult.se iCalcreator 2.30.10/
 /
CALSCALE:GREGORIAN
METHOD:PUBLISH
UID:f425962d-c909-4442-98c3-1fb6f1a4d49a
X-WR-CALNAME:iCagenda
X-WR-CALDESC:Event Management Extension for Joomla!
X-WR-RELCALID:3E26604A-50F4-4449-8B3E-E4F4932D05B5
X-WR-TIMEZONE:America/Toronto
BEGIN:VTIMEZONE
TZID:America/Toronto
BEGIN:STANDARD
TZNAME:EST
DTSTART:20241103T020000
TZOFFSETFROM:-0400
TZOFFSETTO:-0500
RDATE:20251102T020000
RDATE:20261101T020000
END:STANDARD
BEGIN:DAYLIGHT
TZNAME:EDT
DTSTART:20250309T020000
TZOFFSETFROM:-0500
TZOFFSETTO:-0400
RDATE:20260308T020000
RDATE:20270314T020000
END:DAYLIGHT
END:VTIMEZONE
BEGIN:VEVENT
UID:270ef10e-da9b-4c36-8386-d8cf0189eea4
DTSTAMP:20260420T130540Z
CATEGORIES:Soirée
CLASS:PUBLIC
DESCRIPTION;ALTREP="CID:<FFFF__=0ABBE548DFE235B58f9e8a93d@coffeebean.com>":
 Observer le ciel étoilé de Baie-Saint-Paul et découvrir le monde de l'astr
 onomie\, ça vous intéresse?\nCet été\, les passionnés d'astronomie et les 
 curieux auront l'opportunité de s'évader sous un ciel étoilé grâce au Club
  d'astronomie de Charlevoix. Préparez-vous donc à lever les yeux et à plon
 ger dans l'univers !\nUne fois par mois\, de juin à octobre\, le Club d’as
 tronomie de Charlevoix anime des sessions d’observation à l’aide d’un téle
 scope de 14 pouces à l’Observatoire astronomique de Baie-Saint-Paul. L’obs
 ervation nécessite un ciel dégagé. Il est préférable de s’habiller chaude 
 ment et d’apporter ses jumelles!&nbsp\;\n\nSi le ciel est nuageux\, l’acti
 vité est reportée au lendemain.&nbsp\;\n
DTSTART:20250926T230000Z
DTEND:20250926T230000Z
GEO:00;0
LOCATION:Observatoire astronomique de Baie-Saint-Paul
ORGANIZER:
SEQUENCE:1
SUMMARY:Observation du ciel étoilé
TRANSP:OPAQUE
URL:https://www.guidebaiesaintpaul.com.terreciel.ca/component/icagenda/obse
 rvation-du-ciel-etoile/2025-09-26-19-00.html?Itemid=103
END:VEVENT
END:VCALENDAR
