BEGIN:VCALENDAR
VERSION:2.0
PRODID:-//Baie-Saint-Paul Guide//NONSGML kigkonsult.se iCalcreator 2.30.10/
 /
CALSCALE:GREGORIAN
METHOD:PUBLISH
UID:3127f19d-5006-4c44-8fe5-392717079c11
X-WR-CALNAME:iCagenda
X-WR-CALDESC:Event Management Extension for Joomla!
X-WR-RELCALID:3E26604A-50F4-4449-8B3E-E4F4932D05B5
X-WR-TIMEZONE:America/Toronto
BEGIN:VTIMEZONE
TZID:America/Toronto
BEGIN:STANDARD
TZNAME:EST
DTSTART:20251102T020000
TZOFFSETFROM:-0400
TZOFFSETTO:-0500
RDATE:20261101T020000
END:STANDARD
BEGIN:DAYLIGHT
TZNAME:EDT
DTSTART:20260308T020000
TZOFFSETFROM:-0500
TZOFFSETTO:-0400
RDATE:20270314T020000
END:DAYLIGHT
END:VTIMEZONE
BEGIN:VEVENT
UID:2fe7d6d5-21a9-460b-80a7-79e46b56f632
DTSTAMP:20260420T031712Z
CATEGORIES:Salon de quilles Charlevoix
CLASS:PUBLIC
DESCRIPTION;ALTREP="CID:<FFFF__=0ABBE548DFE235B58f9e8a93d@coffeebean.com>":
 Karaoké - Salon de quilles Charlevoix\nEmmène ta gang!!Entrée gratuite !!!
 !
DTSTART:20260315T000000Z
DTEND:20260315T030000Z
GEO:00;0
LOCATION:Salon de quilles Charlevoix
ORGANIZER:
SEQUENCE:1
SUMMARY:Karaoké
TRANSP:OPAQUE
URL:https://www.guidebaiesaintpaul.com.terreciel.ca/component/icagenda/kara
 oke-2.html?Itemid=103
END:VEVENT
END:VCALENDAR
