BEGIN:VCALENDAR
VERSION:2.0
PRODID:-//Baie-Saint-Paul Guide//NONSGML kigkonsult.se iCalcreator 2.30.10/
 /
CALSCALE:GREGORIAN
METHOD:PUBLISH
UID:c1b383da-7abe-4658-ac27-67b1bf30b933
X-WR-CALNAME:iCagenda
X-WR-CALDESC:Event Management Extension for Joomla!
X-WR-RELCALID:3E26604A-50F4-4449-8B3E-E4F4932D05B5
X-WR-TIMEZONE:America/Toronto
BEGIN:VTIMEZONE
TZID:America/Toronto
BEGIN:STANDARD
TZNAME:EST
DTSTART:20251102T020000
TZOFFSETFROM:-0400
TZOFFSETTO:-0500
RDATE:20261101T020000
END:STANDARD
BEGIN:DAYLIGHT
TZNAME:EDT
DTSTART:20260308T020000
TZOFFSETFROM:-0500
TZOFFSETTO:-0400
RDATE:20270314T020000
END:DAYLIGHT
END:VTIMEZONE
BEGIN:VEVENT
UID:5cc2e40c-7ea2-4aeb-8e20-25835daed166
DTSTAMP:20260420T032135Z
CATEGORIES:Concert
CLASS:PUBLIC
DESCRIPTION;ALTREP="CID:<FFFF__=0ABBE548DFE235B58f9e8a93d@coffeebean.com>":
 Une soirée toute en douceur au Bistro des Balcons\nCharlotte Brousseau nou
 s invite dans un univers folk francophone d’une grande délicatesse\, où la
  voix feutrée\, la guitare classique\, le piano et des arrangements subtil
 s tissent une atmosphère intime et profondément poétique. Sa musique\, emp
 reinte d’une sensibilité cinématographique\, enveloppe et touche droit au 
 cœur\, comme une scène suspendue dans le temps.\nDemi-finaliste des Franco
 uvertes 2022 et finaliste du Cabaret Festif! 2023\, Charlotte Brousseau s’
 impose comme une voix à découvrir et à chérir sur la scène émergente québé
 coise. Un spectacle pour écouter\, ressentir et se laisser porter.\nUne so
 irée précieuse à ne pas manquer.\nTarif :15$ + taxeshttps://lepointdevente
 .com/billets/adb260314001?lang=fr
DTSTART:20260315T000000Z
DTEND:20260315T023000Z
GEO:+47.438202;-70.505577
LOCATION:Bistro des Balcons
ORGANIZER:
SEQUENCE:1
SUMMARY:Charlotte Brousseau au Bistro des Balcons
TRANSP:OPAQUE
URL:https://www.guidebaiesaintpaul.com.terreciel.ca/component/icagenda/char
 lotte-brousseau-au-bistro-des-balcons.html?Itemid=103
END:VEVENT
END:VCALENDAR
